Workbook

Sheet GSI
B2: ISIN | C2: Bid
B3: GB00BXRLLZ88 | C3: 1.39 | E3: =VLOOKUP(B3,ISIN!A:B,2,0) -> PBSNP.V | F3: =ROUND(C3,2) -> 1.39
B4: GB00BXRLLX64 | C4: 1.12 | E4: =VLOOKUP(B4,ISIN!A:B,2,0) -> PBSNQ.V | F4: =ROUND(C4,2) -> 1.12
B5: GB00BXRLLY71 | C5: 0.8 | E5: =VLOOKUP(B5,ISIN!A:B,2,0) -> PBSNR.V | F5: =ROUND(C5,2) -> 0.8
B6: GB00BXRLM665 | C6: 0.58 | E6: =VLOOKUP(B6,ISIN!A:B,2,0) -> PBSNS.V | F6: =ROUND(C6,2) -> 0.58
B7: GB00BXRLM335 | C7: 0.45 | E7: =VLOOKUP(B7,ISIN!A:B,2,0) -> PBSNT.V | F7: =ROUND(C7,2) -> 0.45
B8: GB00BWGPX031 | C8: 0.34 | E8: =VLOOKUP(B8,ISIN!A:B,2,0) -> PBSNU.V | F8: =ROUND(C8,2) -> 0.34
B9: GB00BWGPX478 | C9: 0.29 | E9: =VLOOKUP(B9,ISIN!A:B,2,0) -> PBSNV.V | F9: =ROUND(C9,2) -> 0.29
B10: GB00BXRLM228 | C10: 0.23 | E10: =VLOOKUP(B10,ISIN!A:B,2,0) -> PBSNW.V | F10: =ROUND(C10,2) -> 0.23
B11: GB00BXRLM111 | C11: 0.18 | E11: =VLOOKUP(B11,ISIN!A:B,2,0) -> PBSNX.V | F11: =ROUND(C11,2) -> 0.18
B12: GB00BWGRN095 | C12: 0.15 | E12: =VLOOKUP(B12,ISIN!A:B,2,0) -> PBSNY.V | F12: =ROUND(C12,2) -> 0.15
B13: GB00BXRLM442 | C13: 0.02 | E13: =VLOOKUP(B13,ISIN!A:B,2,0) -> PXSPV.V | F13: =ROUND(C13,2) -> 0.02
B14: GB00BW8VDV06 | C14: 0.05 | E14: =VLOOKUP(B14,ISIN!A:B,2,0) -> PXSPW.V | F14: =ROUND(C14,2) -> 0.05
... B620: GB00BXRLSH91 | C620: 0.02 | E620: =VLOOKUP(B620,ISIN!A:B,2,0) -> IYSFQ.V | F620: =ROUND(C620,2) -> 0.02

Sheet ISIN
A1: ISIN | B1: KISA KOD
A2: GB00BXRLTJ80 | B2: APSHT.V
A3: GB00BXRLTF43 | B3: APSHU.V
A4: GB00BXRLTH66 | B4: APSHV.V
A5: GB00BXRLTX25 | B5: APSUT.V
A6: GB00BXRLTT88 | B6: APSHW.V
A7: GB00BXRLV815 | B7: APSUU.V
A8: GB00BXRLVG97 | B8: APSUV.V
A9: GB00BXRM7195 | B9: APSUW.V
A10: GB00BXRM7310 | B10: ABSNA.V
A11: GB00BXRM7088 | B11: ABSWW.V
A12: GB00BXRLV583 | B12: ABSNB.V
... A619: GB00BXRLVM57 | B619: YPSIH.V

Sheet Tablo
C2: Goldman Sachs International tarafından İhraç edilen ve 21/09/2026 Tarihinde İşlem Görmeye Başlayacak Olan Varantların Satış Fiyatları
C3: KISA KOD | D3: Satış Fiyatı
C4: =ISIN!B2 -> APSHT.V | D4: =VLOOKUP(C4,GSI!E:F,2,0) -> 0.01
C5: =ISIN!B3 -> APSHU.V | D5: =VLOOKUP(C5,GSI!E:F,2,0) -> 0.01
C6: =ISIN!B4 -> APSHV.V | D6: =VLOOKUP(C6,GSI!E:F,2,0) -> 0.01
C7: =ISIN!B5 -> APSUT.V | D7: =VLOOKUP(C7,GSI!E:F,2,0) -> 0.01
C8: =ISIN!B6 -> APSHW.V | D8: =VLOOKUP(C8,GSI!E:F,2,0) -> 0.01
C9: =ISIN!B7 -> APSUU.V | D9: =VLOOKUP(C9,GSI!E:F,2,0) -> 0.01
C10: =ISIN!B8 -> APSUV.V | D10: =VLOOKUP(C10,GSI!E:F,2,0) -> 0.01
C11: =ISIN!B9 -> APSUW.V | D11: =VLOOKUP(C11,GSI!E:F,2,0) -> 0.01
C12: =ISIN!B10 -> ABSNA.V | D12: =VLOOKUP(C12,GSI!E:F,2,0) -> 0.71
C13: =ISIN!B11 -> ABSWW.V | D13: =VLOOKUP(C13,GSI!E:F,2,0) -> 0.05
C14: =ISIN!B12 -> ABSNB.V | D14: =VLOOKUP(C14,GSI!E:F,2,0) -> 0.38
C15: =ISIN!B13 -> ABSNC.V | D15: =VLOOKUP(C15,GSI!E:F,2,0) -> 0.21
... C621: =ISIN!B619 -> YPSIH.V | D621: =VLOOKUP(C621,GSI!E:F,2,0) -> 0.1

Sheet CSV,virgül
A1: INS; PRICE ;TYPE
A2: =Tablo!C4&";"&Tablo!D4&";"&"T" -> APSHT.V;0,01;T
A3: =Tablo!C5&";"&Tablo!D5&";"&"T" -> APSHU.V;0,01;T
A4: =Tablo!C6&";"&Tablo!D6&";"&"T" -> APSHV.V;0,01;T
A5: =Tablo!C7&";"&Tablo!D7&";"&"T" -> APSUT.V;0,01;T
A6: =Tablo!C8&";"&Tablo!D8&";"&"T" -> APSHW.V;0,01;T
A7: =Tablo!C9&";"&Tablo!D9&";"&"T" -> APSUU.V;0,01;T
A8: =Tablo!C10&";"&Tablo!D10&";"&"T" -> APSUV.V;0,01;T
A9: =Tablo!C11&";"&Tablo!D11&";"&"T" -> APSUW.V;0,01;T
A10: =Tablo!C12&";"&Tablo!D12&";"&"T" -> ABSNA.V;0,71;T
A11: =Tablo!C13&";"&Tablo!D13&";"&"T" -> ABSWW.V;0,05;T
A12: =Tablo!C14&";"&Tablo!D14&";"&"T" -> ABSNB.V;0,38;T
A13: =Tablo!C15&";"&Tablo!D15&";"&"T" -> ABSNC.V;0,21;T
... A619: =Tablo!C621&";"&Tablo!D621&";"&"T" -> YPSIH.V;0,1;T
